BEGIN:VCALENDAR
VERSION:2.0
PRODID:-//ahandtohumanity-ngo.org - ECPv6.15.20//NONSGML v1.0//EN
CALSCALE:GREGORIAN
METHOD:PUBLISH
X-WR-CALNAME:ahandtohumanity-ngo.org
X-ORIGINAL-URL:https://ahandtohumanity-ngo.org
X-WR-CALDESC:Events for ahandtohumanity-ngo.org
REFRESH-INTERVAL;VALUE=DURATION:PT1H
X-Robots-Tag:noindex
X-PUBLISHED-TTL:PT1H
BEGIN:VTIMEZONE
TZID:Africa/Douala
BEGIN:STANDARD
TZOFFSETFROM:+0100
TZOFFSETTO:+0100
TZNAME:WAT
DTSTART:20230101T000000
END:STANDARD
END:VTIMEZONE
BEGIN:VEVENT
DTSTART;TZID=Africa/Douala:20240320T080000
DTEND;TZID=Africa/Douala:20240327T170000
DTSTAMP:20260420T221956
CREATED:20260317T112826Z
LAST-MODIFIED:20260317T112828Z
UID:1674-1710921600-1711558800@ahandtohumanity-ngo.org
SUMMARY:Drug Abuse Awareness Seminar in Cameroon – Youth Prevention & Advocacy Initiative
DESCRIPTION:Community Seminar on Youth Drug Prevention\n\n\n\n\n\nA national awareness seminar organized with the Ministry of Social Affairs to address the rising impact of drug abuse among youth in Cameroon\, featuring expert insights and community engagement. \n\n\n\nThe Ministry of Social Affairs in Cameroon\, in collaboration with A Hand to Humanity\, organized a high-impact seminar addressing the growing crisis of drug abuse among young people. \n\n\n\nHeld in both Douala and Yaoundé in March 2024\, this initiative brought together stakeholders\, community leaders\, and youth advocates to explore the devastating effects of substance abuse on health\, education\, and socio-economic development. \n\n\n\nDuring the seminar\, participants were presented with alarming data on drug use trends among youth in Cameroon\, highlighting the urgent need for preventive action and community-based solutions. \n\n\n\nA key moment of the event was the presentation by Bro Peter Nillong\, promoter of A Hand to Humanity\, who delivered a powerful session on: \n\n\n\n“A Biblical Perspective on Fighting Substance Abuse” \n\n\n\nHis message emphasized the importance of moral guidance\, community support\, and holistic healing in overcoming addiction and protecting the next generation. \n\n\n\nThis seminar reinforced the importance of collaboration between government institutions\, NGOs\, families\, and communities to build a safer and healthier future for Cameroon’s youth.
URL:https://ahandtohumanity-ngo.org/event/drug-abuse-awareness-seminar-in-cameroon-youth-prevention-advocacy-initiative/
LOCATION:Douala\, Cameroon\, Douala\, Littoral\, Cameroon
ORGANIZER;CN="Rev. Peter Nillong":MAILTO:nillongpeter@gmail.com
END:VEVENT
END:VCALENDAR