BEGIN:VCALENDAR
VERSION:2.0
PRODID:-//ahandtohumanity-ngo.org - ECPv6.15.20//NONSGML v1.0//EN
CALSCALE:GREGORIAN
METHOD:PUBLISH
X-WR-CALNAME:ahandtohumanity-ngo.org
X-ORIGINAL-URL:https://ahandtohumanity-ngo.org
X-WR-CALDESC:Events for ahandtohumanity-ngo.org
REFRESH-INTERVAL;VALUE=DURATION:PT1H
X-Robots-Tag:noindex
X-PUBLISHED-TTL:PT1H
BEGIN:VTIMEZONE
TZID:Africa/Douala
BEGIN:STANDARD
TZOFFSETFROM:+0100
TZOFFSETTO:+0100
TZNAME:WAT
DTSTART:20250101T000000
END:STANDARD
END:VTIMEZONE
BEGIN:VEVENT
DTSTART;TZID=Africa/Douala:20260312T080000
DTEND;TZID=Africa/Douala:20260312T170000
DTSTAMP:20260420T204000
CREATED:20260312T114245Z
LAST-MODIFIED:20260312T123221Z
UID:1514-1773302400-1773334800@ahandtohumanity-ngo.org
SUMMARY:Orphan Support and Child Protection Awareness Event – Cameroon
DESCRIPTION:A community event dedicated to supporting orphaned and vulnerable children through education\, mentorship\, and child protection initiatives. \n\n\n\nChildren who grow up without adequate family support often face significant social and economic challenges. This event organized by A Hand to Humanity focuses on raising awareness about the importance of supporting orphans and vulnerable children in Cameroon. \n\n\n\nThe program will bring together community leaders\, volunteers\, educators\, and organizations working to improve the lives of vulnerable children. \n\n\n\nTopics and activities include: \n\n\n\n\neducation support for orphaned children\n\n\n\ncommunity mentorship programs\n\n\n\nchild protection awareness\n\n\n\nsupport systems for vulnerable families\n\n\n\ncollaboration between NGOs and communities\n\n\n\n\nThrough this event\, the organization aims to strengthen support networks and encourage community involvement in protecting and empowering vulnerable children.
URL:https://ahandtohumanity-ngo.org/event/orphan-support-and-child-protection-awareness-event-cameroon/
CATEGORIES:Orphan Support
ORGANIZER;CN="Rev. Peter Nillong":MAILTO:nillongpeter@gmail.com
END:VEVENT
END:VCALENDAR